BEGIN:VCALENDAR
VERSION:2.0
PRODID:-//Marshall County, South Dakota - ECPv6.15.16//NONSGML v1.0//EN
CALSCALE:GREGORIAN
METHOD:PUBLISH
X-WR-CALNAME:Marshall County, South Dakota
X-ORIGINAL-URL:https://marshall.sdcounties.org
X-WR-CALDESC:Events for Marshall County, South Dakota
REFRESH-INTERVAL;VALUE=DURATION:PT1H
X-Robots-Tag:noindex
X-PUBLISHED-TTL:PT1H
BEGIN:VTIMEZONE
TZID:UTC
BEGIN:STANDARD
TZOFFSETFROM:+0000
TZOFFSETTO:+0000
TZNAME:UTC
DTSTART:20240101T000000
END:STANDARD
END:VTIMEZONE
BEGIN:VEVENT
DTSTART;VALUE=DATE:20250619
DTEND;VALUE=DATE:20250620
DTSTAMP:20260422T084320
CREATED:20250610T202325Z
LAST-MODIFIED:20250610T202325Z
UID:3607-1750291200-1750377599@marshall.sdcounties.org
SUMMARY:Juneteenth Holiday - County Offices closed
DESCRIPTION:
URL:https://marshall.sdcounties.org/event/juneteenth-holiday-county-offices-closed/
END:VEVENT
END:VCALENDAR